BEGIN:VCALENDAR
VERSION:2.0
PRODID:-//Plone.org//NONSGML plone.app.event//EN
X-WR-TIMEZONE:Europe/Rome
BEGIN:VEVENT
SUMMARY:"Non voglio perderti" al CineCare: un viaggio emozionante nel pote
 re della musica
DTSTART;TZID=Europe/Rome;VALUE=DATE-TIME:20241206T161500
DTSTAMP;VALUE=DATE-TIME:20260420T055827Z
UID:cb8a2b80d1114939a15edd85729908d2@127.0.0.1:8095
CREATED;VALUE=DATE-TIME:20241203T113544Z
DESCRIPTION:Il 6 dicembre alle 16.15 nell'Aula Magna dell'Ospedale Maggior
 e
LAST-MODIFIED;VALUE=DATE-TIME:20250313T141149Z
LOCATION:Aula Magna Ospedale Maggiore - Largo Bartolo Nigrisoli 2\, Bologn
 a
URL:https://www.ausl.bologna.it/eventi/archivio/non-voglio-perderti-al-cin
 ecare-un-viaggio-emozionante-nel-potere-della-musica
END:VEVENT
BEGIN:VTIMEZONE
TZID:Europe/Rome
X-LIC-LOCATION:Europe/Rome
BEGIN:STANDARD
DTSTART;VALUE=DATE-TIME:20241027T020000
TZNAME:CET
TZOFFSETFROM:+0200
TZOFFSETTO:+0100
END:STANDARD
END:VTIMEZONE
END:VCALENDAR
