BEGIN:VCALENDAR
VERSION:2.0
PRODID:-//Plone.org//NONSGML plone.app.event//EN
X-WR-TIMEZONE:Europe/Rome
BEGIN:VEVENT
SUMMARY:Non solo pillola: conoscere i metodi contraccettivi per una scelta
  consapevole
DTSTART;TZID=Europe/Rome;VALUE=DATE-TIME:20241109T100000
DTSTAMP;VALUE=DATE-TIME:20260420T063331Z
UID:d73bf10da71d4e5a9d6380f15f246a3e@127.0.0.1:8095
CREATED;VALUE=DATE-TIME:20240927T121338Z
DESCRIPTION:Nell'ambito di "Incontri per la salute. Una comunità che cres
 ce"
LAST-MODIFIED;VALUE=DATE-TIME:20241128T093718Z
LOCATION:Bologna\, Casa della Salute San Donato - San Vitale Sala Rubino
URL:https://www.ausl.bologna.it/eventi/archivio/non-solo-pillola-conoscere
 -i-metodi-contraccettivi-per-una-scelta-consapevole
END:VEVENT
BEGIN:VTIMEZONE
TZID:Europe/Rome
X-LIC-LOCATION:Europe/Rome
BEGIN:STANDARD
DTSTART;VALUE=DATE-TIME:20241027T020000
TZNAME:CET
TZOFFSETFROM:+0200
TZOFFSETTO:+0100
END:STANDARD
END:VTIMEZONE
END:VCALENDAR
