BEGIN:VCALENDAR
VERSION:2.0
PRODID:-//Plone.org//NONSGML plone.app.event//EN
X-WR-TIMEZONE:Europe/Rome
BEGIN:VEVENT
SUMMARY:New frontiers in gliomas: from bench to bedside
DTSTART;TZID=Europe/Rome;VALUE=DATE-TIME:20230622T093000
DTEND;TZID=Europe/Rome;VALUE=DATE-TIME:20230622T150000
DTSTAMP;VALUE=DATE-TIME:20260420T092228Z
UID:33e17204ffa94c0bbdef64b328e5dd1a@127.0.0.1:8095
CATEGORIES:Istituto Scienze Neurologiche
CREATED;VALUE=DATE-TIME:20230616T125613Z
DESCRIPTION:Impact of new technologies and Artificial Intelligence in tran
 slational research
LAST-MODIFIED;VALUE=DATE-TIME:20231116T081128Z
LOCATION:Istituto di Anatomia - Aula Magna Olivo\, Via Irnerio 48 - Bologn
 a
URL:https://www.ausl.bologna.it/eventi/archivio/new-frontiers-in-gliomas-f
 rom-bench-to-bedside
END:VEVENT
BEGIN:VTIMEZONE
TZID:Europe/Rome
X-LIC-LOCATION:Europe/Rome
BEGIN:DAYLIGHT
DTSTART;VALUE=DATE-TIME:20230326T030000
TZNAME:CEST
TZOFFSETFROM:+0100
TZOFFSETTO:+0200
END:DAYLIGHT
END:VTIMEZONE
END:VCALENDAR
