BEGIN:VCALENDAR
VERSION:2.0
PRODID:-//Plone.org//NONSGML plone.app.event//EN
X-WR-TIMEZONE:Europe/Rome
BEGIN:VEVENT
SUMMARY:Neonato: i suoi bisogni e come favorire un buon avvio dell'allatta
 mento
DTSTART;TZID=Europe/Rome;VALUE=DATE-TIME:20240313T170000
DTEND;TZID=Europe/Rome;VALUE=DATE-TIME:20240313T190000
DTSTAMP;VALUE=DATE-TIME:20260420T080646Z
UID:3a2e169904b4472192954c19a5c5484f@127.0.0.1:8095
CREATED;VALUE=DATE-TIME:20240208T110712Z
DESCRIPTION:Alla Salaborsa di Bologna tornano gli incontri per prepararsi 
 all’arrivo di un figlio
LAST-MODIFIED;VALUE=DATE-TIME:20240912T094115Z
LOCATION:Salaborsa (Sala conferenze)\, Piazza Nettuno 3\, Bologna
URL:https://www.ausl.bologna.it/eventi/archivio/neonato-i-suoi-bisogni-e-c
 ome-favorire-un-buon-avvio-dellallattamento
END:VEVENT
BEGIN:VTIMEZONE
TZID:Europe/Rome
X-LIC-LOCATION:Europe/Rome
BEGIN:STANDARD
DTSTART;VALUE=DATE-TIME:20231029T020000
TZNAME:CET
TZOFFSETFROM:+0200
TZOFFSETTO:+0100
END:STANDARD
END:VTIMEZONE
END:VCALENDAR
