BEGIN:VCALENDAR
VERSION:2.0
PRODID:-//Plone.org//NONSGML plone.app.event//EN
X-WR-TIMEZONE:Europe/Rome
BEGIN:VEVENT
SUMMARY:Mutilazioni genitali femminili
DTSTART;TZID=Europe/Rome;VALUE=DATE-TIME:20250206T090000
DTEND;TZID=Europe/Rome;VALUE=DATE-TIME:20250206T170000
DTSTAMP;VALUE=DATE-TIME:20260420T045928Z
UID:d268cfe398cb47e4839091cdd3394bc2@127.0.0.1:8095
CREATED;VALUE=DATE-TIME:20250131T144457Z
DESCRIPTION:Corso in presenza e online - 16\,5 ECM
LAST-MODIFIED;VALUE=DATE-TIME:20250313T141152Z
LOCATION:Bologna\, Ospedale Maggiore\, Aula Magna
URL:https://www.ausl.bologna.it/eventi/archivio/mutilazioni-genitali-femmi
 nili
END:VEVENT
BEGIN:VTIMEZONE
TZID:Europe/Rome
X-LIC-LOCATION:Europe/Rome
BEGIN:STANDARD
DTSTART;VALUE=DATE-TIME:20241027T020000
TZNAME:CET
TZOFFSETFROM:+0200
TZOFFSETTO:+0100
END:STANDARD
END:VTIMEZONE
END:VCALENDAR
