BEGIN:VCALENDAR
VERSION:2.0
PRODID:-//Plone.org//NONSGML plone.app.event//EN
X-WR-TIMEZONE:Europe/Rome
BEGIN:VEVENT
SUMMARY:Mito Conference 2023
DTSTART;TZID=Europe/Rome;VALUE=DATE-TIME:20230610T090000
DTEND;TZID=Europe/Rome;VALUE=DATE-TIME:20230611T170000
DTSTAMP;VALUE=DATE-TIME:20260420T091429Z
UID:04376dcf56444cec825180a825570e6d@127.0.0.1:8095
CATEGORIES:Istituto Scienze Neurologiche
CONTACT:https://www.mitocon.it/13-convegno-sulle-malattie-mitocondriali-20
 23/
CREATED;VALUE=DATE-TIME:20230512T114743Z
DESCRIPTION:Congresso organizzato da Mitocon
LAST-MODIFIED;VALUE=DATE-TIME:20230825T062640Z
LOCATION:Bologna\, Volvo Congress Center
URL:https://www.ausl.bologna.it/eventi/archivio/mito-conference-2023
END:VEVENT
BEGIN:VTIMEZONE
TZID:Europe/Rome
X-LIC-LOCATION:Europe/Rome
BEGIN:DAYLIGHT
DTSTART;VALUE=DATE-TIME:20230326T030000
TZNAME:CEST
TZOFFSETFROM:+0100
TZOFFSETTO:+0200
END:DAYLIGHT
END:VTIMEZONE
END:VCALENDAR
