BEGIN:VCALENDAR
VERSION:2.0
PRODID:-//Plone.org//NONSGML plone.app.event//EN
X-WR-TIMEZONE:Europe/Rome
BEGIN:VEVENT
SUMMARY:Metodologia e pratiche professionali
DTSTART;TZID=Europe/Rome;VALUE=DATE-TIME:20250129T143000
DTEND;TZID=Europe/Rome;VALUE=DATE-TIME:20250129T163000
DTSTAMP;VALUE=DATE-TIME:20260420T055021Z
UID:79f4f96140b3486680444c981706cf75@127.0.0.1:8095
CATEGORIES:Gruppi di Auto Mutuo Aiuto
CONTACT:Iscrizioni\, formazione@oaser.it
CREATED;VALUE=DATE-TIME:20250120T101800Z
DESCRIPTION:Storia e applicazione dell'Auto Mutuo Aiuto nell'Area Metropol
 itana di Bologna
LAST-MODIFIED;VALUE=DATE-TIME:20250313T141155Z
LOCATION:Bologna\, Sala Poeti\, Palazzo Hercolani - Strada Maggiore\, 45
URL:https://www.ausl.bologna.it/eventi/archivio/metodologia-e-pratiche-pro
 fessionali
END:VEVENT
BEGIN:VTIMEZONE
TZID:Europe/Rome
X-LIC-LOCATION:Europe/Rome
BEGIN:STANDARD
DTSTART;VALUE=DATE-TIME:20241027T020000
TZNAME:CET
TZOFFSETFROM:+0200
TZOFFSETTO:+0100
END:STANDARD
END:VTIMEZONE
END:VCALENDAR
