BEGIN:VCALENDAR
VERSION:2.0
PRODID:-//Plone.org//NONSGML plone.app.event//EN
X-WR-TIMEZONE:Europe/Rome
BEGIN:VEVENT
SUMMARY:Mare calmo e felice viaggio. In margine a una polena
DTSTART;TZID=Europe/Rome;VALUE=DATE-TIME:20250215T173000
DTEND;TZID=Europe/Rome;VALUE=DATE-TIME:20250215T183000
DTSTAMP;VALUE=DATE-TIME:20260420T045120Z
UID:dac33f53728642a2bafc2f2e0802a876@127.0.0.1:8095
CONTACT:Biblioteca\, 051 6862636\, biblioteca.pc@renogalliera.it
CREATED;VALUE=DATE-TIME:20250203T095306Z
DESCRIPTION:Presentazione del libro di Graziano Campanini
LAST-MODIFIED;VALUE=DATE-TIME:20250313T141154Z
LOCATION:Pieve di Cento\, Biblioteca Pinacoteca\, Via Rizzoli 4 e 6
URL:https://www.ausl.bologna.it/eventi/archivio/mare-calmo-e-felice-viaggi
 o-in-margine-a-una-polena
END:VEVENT
BEGIN:VTIMEZONE
TZID:Europe/Rome
X-LIC-LOCATION:Europe/Rome
BEGIN:STANDARD
DTSTART;VALUE=DATE-TIME:20241027T020000
TZNAME:CET
TZOFFSETFROM:+0200
TZOFFSETTO:+0100
END:STANDARD
END:VTIMEZONE
END:VCALENDAR
