BEGIN:VCALENDAR
VERSION:2.0
PRODID:-//Plone.org//NONSGML plone.app.event//EN
X-WR-TIMEZONE:Europe/Rome
BEGIN:VEVENT
SUMMARY:Diventare genitori - Mai troppo piccoli per la lettura\, nati per 
 leggere e per la musica
DTSTART;TZID=Europe/Rome;VALUE=DATE-TIME:20240417T170000
DTEND;TZID=Europe/Rome;VALUE=DATE-TIME:20240417T190000
DTSTAMP;VALUE=DATE-TIME:20260420T063332Z
UID:a9e92e5474a74fadba844c76332744b4@127.0.0.1:8095
CONTACT:Salaborsa\, 051 2194460
CREATED;VALUE=DATE-TIME:20240319T101509Z
DESCRIPTION:Alla Salaborsa di Bologna tornano gli incontri per prepararsi 
 all’arrivo di un figlio
LAST-MODIFIED;VALUE=DATE-TIME:20240912T094250Z
LOCATION:Salaborsa (Salaborsa Ragazzi)\, Piazza Nettuno 3\, Bologna
URL:https://www.ausl.bologna.it/eventi/archivio/mai-troppo-piccoli-per-la-
 lettura-nati-per-leggere-e-per-la-musica
END:VEVENT
BEGIN:VTIMEZONE
TZID:Europe/Rome
X-LIC-LOCATION:Europe/Rome
BEGIN:DAYLIGHT
DTSTART;VALUE=DATE-TIME:20240331T030000
TZNAME:CEST
TZOFFSETFROM:+0100
TZOFFSETTO:+0200
END:DAYLIGHT
END:VTIMEZONE
END:VCALENDAR
