BEGIN:VCALENDAR
VERSION:2.0
PRODID:-//Plone.org//NONSGML plone.app.event//EN
X-WR-TIMEZONE:Europe/Rome
BEGIN:VEVENT
SUMMARY:Pillole di latte - Allattamento: guida e consigli
DTSTART;TZID=Europe/Rome;VALUE=DATE-TIME:20231003T143000
DTEND;TZID=Europe/Rome;VALUE=DATE-TIME:20231003T163000
DTSTAMP;VALUE=DATE-TIME:20260420T075643Z
UID:1caf4a9aecc9413a8e095edfe2d07c86@127.0.0.1:8095
CREATED;VALUE=DATE-TIME:20230920T094136Z
DESCRIPTION:A Loiano\, un appuntamento a cura delle ostetriche dell'Aziend
 a USL di Bologna in collaborazione con il Centro  per le Famiglie Distrett
 o  Savena Idice e Università di Bologna - Corso di Laurea in Ostetricia
LAST-MODIFIED;VALUE=DATE-TIME:20231116T081217Z
LOCATION:Centro per le famiglie Savena Idice - Via Sabbioni 18\, Loiano
URL:https://www.ausl.bologna.it/eventi/archivio/loiano-pillole-di-latte-al
 lattamento-guida-e-consigli
END:VEVENT
BEGIN:VTIMEZONE
TZID:Europe/Rome
X-LIC-LOCATION:Europe/Rome
BEGIN:DAYLIGHT
DTSTART;VALUE=DATE-TIME:20230326T030000
TZNAME:CEST
TZOFFSETFROM:+0100
TZOFFSETTO:+0200
END:DAYLIGHT
END:VTIMEZONE
END:VCALENDAR
