BEGIN:VCALENDAR
VERSION:2.0
PRODID:-//Plone.org//NONSGML plone.app.event//EN
X-WR-TIMEZONE:Europe/Rome
BEGIN:VEVENT
SUMMARY:Lo stato epilettico in Emilia-Romagna. Un progetto di integrazione
  fra professionisti.
DTSTART;TZID=Europe/Rome;VALUE=DATE-TIME:20230113T093000
DTEND;TZID=Europe/Rome;VALUE=DATE-TIME:20230113T170000
DTSTAMP;VALUE=DATE-TIME:20260420T113750Z
UID:0b1a8ff6bdda44a5b42ce011c741af68@127.0.0.1:8095
CATEGORIES:Istituto Scienze Neurologiche
CREATED;VALUE=DATE-TIME:20230112T150124Z
LAST-MODIFIED;VALUE=DATE-TIME:20230825T062406Z
URL:https://www.ausl.bologna.it/eventi/archivio/lo-stato-epilettico-in-emi
 lia-romagna-un-progetto-di-integrazione-fra-professionisti
END:VEVENT
BEGIN:VTIMEZONE
TZID:Europe/Rome
X-LIC-LOCATION:Europe/Rome
BEGIN:STANDARD
DTSTART;VALUE=DATE-TIME:20221030T020000
TZNAME:CET
TZOFFSETFROM:+0200
TZOFFSETTO:+0100
END:STANDARD
END:VTIMEZONE
END:VCALENDAR
