BEGIN:VCALENDAR
VERSION:2.0
PRODID:-//Plone.org//NONSGML plone.app.event//EN
X-WR-TIMEZONE:Europe/Rome
BEGIN:VEVENT
SUMMARY:Le mille strade della nicotina
DTSTART;TZID=Europe/Rome;VALUE=DATE-TIME:20230606T090000
DTEND;TZID=Europe/Rome;VALUE=DATE-TIME:20230606T130000
DTSTAMP;VALUE=DATE-TIME:20260420T092524Z
UID:0cfd328f72ff4a01b77a06492156e18f@127.0.0.1:8095
CREATED;VALUE=DATE-TIME:20230530T115527Z
DESCRIPTION:Riflessioni sul consumo della nicotina\nNuovi dispositivi e st
 rategie comunicative
LAST-MODIFIED;VALUE=DATE-TIME:20230825T062630Z
LOCATION:Aula Magna Ospedale Maggiore - Bologna
URL:https://www.ausl.bologna.it/eventi/archivio/le-mille-strade-della-nico
 tina
END:VEVENT
BEGIN:VTIMEZONE
TZID:Europe/Rome
X-LIC-LOCATION:Europe/Rome
BEGIN:DAYLIGHT
DTSTART;VALUE=DATE-TIME:20230326T030000
TZNAME:CEST
TZOFFSETFROM:+0100
TZOFFSETTO:+0200
END:DAYLIGHT
END:VTIMEZONE
END:VCALENDAR
