BEGIN:VCALENDAR
VERSION:2.0
PRODID:-//Plone.org//NONSGML plone.app.event//EN
X-WR-TIMEZONE:Europe/Rome
BEGIN:VEVENT
SUMMARY:Le donne che fecero l’impresa Emilia-Romagna
DTSTART;TZID=Europe/Rome;VALUE=DATE-TIME:20230307T173000
DTSTAMP;VALUE=DATE-TIME:20260420T093528Z
UID:060843c0b627404ba7fa688dd505bf9b@127.0.0.1:8095
CREATED;VALUE=DATE-TIME:20230228T111004Z
DESCRIPTION:Presentazione del libro di Lorena Lusetti\, Fosca Andraghetti 
 e Rosalba Scaglioni.
LAST-MODIFIED;VALUE=DATE-TIME:20230825T062626Z
LOCATION:Bologna\, Biblioteca e Sala di Lettura Laschi – Piano 0 dell'Os
 pedale Maggiore di Bologna
URL:https://www.ausl.bologna.it/eventi/archivio/le-donne-che-fecero-l2019i
 mpresa-emilia-romagna
END:VEVENT
BEGIN:VTIMEZONE
TZID:Europe/Rome
X-LIC-LOCATION:Europe/Rome
BEGIN:STANDARD
DTSTART;VALUE=DATE-TIME:20221030T020000
TZNAME:CET
TZOFFSETFROM:+0200
TZOFFSETTO:+0100
END:STANDARD
END:VTIMEZONE
END:VCALENDAR
