BEGIN:VCALENDAR
VERSION:2.0
PRODID:-//Plone.org//NONSGML plone.app.event//EN
X-WR-TIMEZONE:Europe/Rome
BEGIN:VEVENT
SUMMARY:Le buone pratiche sui ponteggi
DTSTART;TZID=Europe/Rome;VALUE=DATE-TIME:20241212T140000
DTEND;TZID=Europe/Rome;VALUE=DATE-TIME:20241212T180000
DTSTAMP;VALUE=DATE-TIME:20260420T044656Z
UID:024ddbe119024d9e8efa7dd1d16fd696@127.0.0.1:8095
CATEGORIES:PRP,DSP
CONTACT:info@edili.com\, info@edili.com
CREATED;VALUE=DATE-TIME:20241108T090148Z
DESCRIPTION:Stato di avanzamento del PP7\, novità normative e procedurali
  del settore edile
LAST-MODIFIED;VALUE=DATE-TIME:20250313T141152Z
LOCATION:Bologna\, Aula Magna IIPLE\, via del Gomito 7
URL:https://www.ausl.bologna.it/eventi/archivio/le-buone-pratiche-sui-pont
 eggi
END:VEVENT
BEGIN:VTIMEZONE
TZID:Europe/Rome
X-LIC-LOCATION:Europe/Rome
BEGIN:STANDARD
DTSTART;VALUE=DATE-TIME:20241027T020000
TZNAME:CET
TZOFFSETFROM:+0200
TZOFFSETTO:+0100
END:STANDARD
END:VTIMEZONE
END:VCALENDAR
