BEGIN:VCALENDAR
VERSION:2.0
PRODID:-//Plone.org//NONSGML plone.app.event//EN
X-WR-TIMEZONE:Europe/Rome
BEGIN:VEVENT
SUMMARY:Le afasie progessive. Una patologia orfana.
DTSTART;TZID=Europe/Rome;VALUE=DATE-TIME:20230112T120000
DTEND;TZID=Europe/Rome;VALUE=DATE-TIME:20230112T133000
DTSTAMP;VALUE=DATE-TIME:20260420T113634Z
UID:9592b9053c1e4367a111043b875aa66f@127.0.0.1:8095
CATEGORIES:Istituto Scienze Neurologiche
CREATED;VALUE=DATE-TIME:20221221T132122Z
DESCRIPTION:Lectio magistralis
LAST-MODIFIED;VALUE=DATE-TIME:20230825T062405Z
LOCATION:Biblioteca Storica - Ospedale Bellaria\, Padiglione Ingresso\, pr
 imo piano
URL:https://www.ausl.bologna.it/eventi/archivio/le-afasie-progessive-una-p
 atologia-orfana
END:VEVENT
BEGIN:VTIMEZONE
TZID:Europe/Rome
X-LIC-LOCATION:Europe/Rome
BEGIN:STANDARD
DTSTART;VALUE=DATE-TIME:20221030T020000
TZNAME:CET
TZOFFSETFROM:+0200
TZOFFSETTO:+0100
END:STANDARD
END:VTIMEZONE
END:VCALENDAR
