BEGIN:VCALENDAR
VERSION:2.0
PRODID:-//Plone.org//NONSGML plone.app.event//EN
X-WR-TIMEZONE:Europe/Rome
BEGIN:VEVENT
SUMMARY:La ruota della cura
DTSTART;TZID=Europe/Rome;VALUE=DATE-TIME:20230509T170000
DTEND;TZID=Europe/Rome;VALUE=DATE-TIME:20230509T190000
DTSTAMP;VALUE=DATE-TIME:20260420T092404Z
UID:f92081d05df44286ac4413e26a85fed8@127.0.0.1:8095
CONTACT:Cecilia Baldini\, pariopportunita@ascinsieme.it
CREATED;VALUE=DATE-TIME:20230328T132628Z
DESCRIPTION:Spazio di ascolto\, di parola e di relazione in cui si possono
  socializzare emozioni\, risorse\, informazioni\, “soluzioni” ma anche
  dubbi\, difficoltà e preoccupazioni
LAST-MODIFIED;VALUE=DATE-TIME:20230825T062646Z
LOCATION:Aula Corazza - Casa della Salute di Casalecchio di Reno
URL:https://www.ausl.bologna.it/eventi/archivio/la-ruota-della-cura
END:VEVENT
BEGIN:VTIMEZONE
TZID:Europe/Rome
X-LIC-LOCATION:Europe/Rome
BEGIN:DAYLIGHT
DTSTART;VALUE=DATE-TIME:20230326T030000
TZNAME:CEST
TZOFFSETFROM:+0100
TZOFFSETTO:+0200
END:DAYLIGHT
END:VTIMEZONE
END:VCALENDAR
