BEGIN:VCALENDAR
VERSION:2.0
PRODID:-//Plone.org//NONSGML plone.app.event//EN
X-WR-TIMEZONE:Europe/Rome
BEGIN:VEVENT
SUMMARY:La ricerca valutativa nei servizi sanitari: utilizzo di interventi
  di Audit e Feedback
DTSTART;TZID=Europe/Rome;VALUE=DATE-TIME:20230710T133000
DTEND;TZID=Europe/Rome;VALUE=DATE-TIME:20230710T180000
DTSTAMP;VALUE=DATE-TIME:20260420T093854Z
UID:12c21227beeb47428badb47ed0ab9ecd@127.0.0.1:8095
CATEGORIES:Istituto Scienze Neurologiche
CREATED;VALUE=DATE-TIME:20230628T112140Z
DESCRIPTION:Iniziativa nell’ambito del programma di rete EASY-NET
LAST-MODIFIED;VALUE=DATE-TIME:20231116T081127Z
LOCATION:viale della fiera 8\, sala A (XX maggio) - Bologna
URL:https://www.ausl.bologna.it/eventi/archivio/la-ricerca-valutativa-nei-
 servizi-sanitari-utilizzo-di-interventi-di-audit-feedback
END:VEVENT
BEGIN:VTIMEZONE
TZID:Europe/Rome
X-LIC-LOCATION:Europe/Rome
BEGIN:DAYLIGHT
DTSTART;VALUE=DATE-TIME:20230326T030000
TZNAME:CEST
TZOFFSETFROM:+0100
TZOFFSETTO:+0200
END:DAYLIGHT
END:VTIMEZONE
END:VCALENDAR
