BEGIN:VCALENDAR
VERSION:2.0
PRODID:-//Plone.org//NONSGML plone.app.event//EN
X-WR-TIMEZONE:Europe/Rome
BEGIN:VEVENT
SUMMARY:La nuova illuminazione di Piazza Lambrakis al Quartiere Savena
DTSTART;TZID=Europe/Rome;VALUE=DATE-TIME:20230608T213000
DTSTAMP;VALUE=DATE-TIME:20260420T093923Z
UID:b32943228beb471785e6e411c23696d7@127.0.0.1:8095
CREATED;VALUE=DATE-TIME:20230607T090903Z
DESCRIPTION:A Bologna\, primo intervento del progetto EnlightenMe\, un cam
 bio di illuminazione coprogettata con gli abitanti del quartiere
LAST-MODIFIED;VALUE=DATE-TIME:20230825T062642Z
LOCATION:Bologna\, Piazza Lambrakis
URL:https://www.ausl.bologna.it/eventi/archivio/la-nuova-illuminazione-di-
 piazza-lambrakis-al-quartiere-savena
END:VEVENT
BEGIN:VTIMEZONE
TZID:Europe/Rome
X-LIC-LOCATION:Europe/Rome
BEGIN:DAYLIGHT
DTSTART;VALUE=DATE-TIME:20230326T030000
TZNAME:CEST
TZOFFSETFROM:+0100
TZOFFSETTO:+0200
END:DAYLIGHT
END:VTIMEZONE
END:VCALENDAR
