BEGIN:VCALENDAR
VERSION:2.0
PRODID:-//Plone.org//NONSGML plone.app.event//EN
X-WR-TIMEZONE:Europe/Rome
BEGIN:VEVENT
SUMMARY:La medicina al servizio dell'uomo: la terapia\, le parole e il tem
 po delle cure
DTSTART;TZID=Europe/Rome;VALUE=DATE-TIME:20230506T083000
DTEND;TZID=Europe/Rome;VALUE=DATE-TIME:20230507T120000
DTSTAMP;VALUE=DATE-TIME:20260420T093904Z
UID:0c8f4c8ad9eb4a24bd460d4232926051@127.0.0.1:8095
CATEGORIES:Istituto Scienze Neurologiche
CREATED;VALUE=DATE-TIME:20230428T091942Z
DESCRIPTION:Convegno - Attivismo quantico europeo
LAST-MODIFIED;VALUE=DATE-TIME:20230825T062635Z
LOCATION:Relais Bellaria Hotel e Congressi - Via Altura\, 11 Bologna
URL:https://www.ausl.bologna.it/eventi/archivio/la-medicina-al-servizio-de
 lluomo-la-terapia-le-parole-e-il-tempo-delle-cure
END:VEVENT
BEGIN:VTIMEZONE
TZID:Europe/Rome
X-LIC-LOCATION:Europe/Rome
BEGIN:DAYLIGHT
DTSTART;VALUE=DATE-TIME:20230326T030000
TZNAME:CEST
TZOFFSETFROM:+0100
TZOFFSETTO:+0200
END:DAYLIGHT
END:VTIMEZONE
END:VCALENDAR
