BEGIN:VCALENDAR
VERSION:2.0
PRODID:-//Plone.org//NONSGML plone.app.event//EN
X-WR-TIMEZONE:Europe/Rome
BEGIN:VEVENT
SUMMARY:L’approccio non farmacologico nella gestione delle Demenze
DTSTART;TZID=Europe/Rome;VALUE=DATE-TIME:20230117T083000
DTEND;TZID=Europe/Rome;VALUE=DATE-TIME:20230117T173000
DTSTAMP;VALUE=DATE-TIME:20260420T113821Z
UID:e9597ecde4be41a6a8e4159ba99f2936@127.0.0.1:8095
CATEGORIES:Istituto Scienze Neurologiche
CONTACT:Carlotta Bagaglia\, 051 6584935\, https://forms.office.com/e/iiKQt
 ZxFUw
CREATED;VALUE=DATE-TIME:20221215T085208Z
DESCRIPTION:Convegno - 17 gennaio 2023 Aula Magna Ospedale Maggiore
LAST-MODIFIED;VALUE=DATE-TIME:20230825T062416Z
LOCATION:Bologna\, Aula Magna Ospedale Maggiore
URL:https://www.ausl.bologna.it/eventi/archivio/l2019approccio-non-farmaco
 logico-nella-gestione-delle-demenze
END:VEVENT
BEGIN:VTIMEZONE
TZID:Europe/Rome
X-LIC-LOCATION:Europe/Rome
BEGIN:STANDARD
DTSTART;VALUE=DATE-TIME:20221030T020000
TZNAME:CET
TZOFFSETFROM:+0200
TZOFFSETTO:+0100
END:STANDARD
END:VTIMEZONE
END:VCALENDAR
