BEGIN:VCALENDAR
VERSION:2.0
PRODID:-//Plone.org//NONSGML plone.app.event//EN
X-WR-TIMEZONE:Europe/Rome
BEGIN:VEVENT
SUMMARY:Insieme a scuola: l’inclusione come fondamento del successo educ
 ativo
DTSTART;TZID=Europe/Rome;VALUE=DATE-TIME:20241203T143000
DTEND;TZID=Europe/Rome;VALUE=DATE-TIME:20241203T174000
DTSTAMP;VALUE=DATE-TIME:20260420T044326Z
UID:da5d3284b4de488381a5f4c69f69e6b1@127.0.0.1:8095
CONTACT:https://forms.gle/p6YyX1ME1vSWoRpEA
CREATED;VALUE=DATE-TIME:20241104T114854Z
LAST-MODIFIED;VALUE=DATE-TIME:20250313T141157Z
LOCATION:Bologna\, Aula Magna Istituto Tecnico Belluzzi-Fioravanti\, via G
 .D. Cassini 3
URL:https://www.ausl.bologna.it/eventi/archivio/insieme-a-scuola
END:VEVENT
BEGIN:VTIMEZONE
TZID:Europe/Rome
X-LIC-LOCATION:Europe/Rome
BEGIN:STANDARD
DTSTART;VALUE=DATE-TIME:20241027T020000
TZNAME:CET
TZOFFSETFROM:+0200
TZOFFSETTO:+0100
END:STANDARD
END:VTIMEZONE
END:VCALENDAR
