BEGIN:VCALENDAR
VERSION:2.0
PRODID:-//Plone.org//NONSGML plone.app.event//EN
X-WR-TIMEZONE:Europe/Rome
BEGIN:VEVENT
SUMMARY:Incontri per la salute alla Casa di Quartiere 2 agosto 1980
DTSTART;TZID=Europe/Rome;VALUE=DATE-TIME:20240223T150000
DTEND;TZID=Europe/Rome;VALUE=DATE-TIME:20240223T180000
DTSTAMP;VALUE=DATE-TIME:20260420T080537Z
UID:3d868ee31f7f4547acf5ae5f6563a399@127.0.0.1:8095
CREATED;VALUE=DATE-TIME:20240206T135726Z
DESCRIPTION:Quattro incontri di orientamento sui servizi sanitari territor
 iali e ospedalieri del Distretto di Bologna
LAST-MODIFIED;VALUE=DATE-TIME:20240912T094110Z
LOCATION:Bologna\, Casa di Quartiere 2 agosto 1980\, via Turati 98
URL:https://www.ausl.bologna.it/eventi/archivio/incontri-per-la-salute-all
 a-casa-di-quartiere-2-agosto-1980-4
END:VEVENT
BEGIN:VTIMEZONE
TZID:Europe/Rome
X-LIC-LOCATION:Europe/Rome
BEGIN:STANDARD
DTSTART;VALUE=DATE-TIME:20231029T020000
TZNAME:CET
TZOFFSETFROM:+0200
TZOFFSETTO:+0100
END:STANDARD
END:VTIMEZONE
END:VCALENDAR
