BEGIN:VCALENDAR
VERSION:2.0
PRODID:-//Plone.org//NONSGML plone.app.event//EN
X-WR-TIMEZONE:Europe/Rome
BEGIN:VEVENT
SUMMARY:Il percorso di valutazione degli studi clinici alla luce dell’en
 trata in vigore del Decreto di riordino dei Comitati Etici e della ricerca
  clinica
DTSTART;TZID=Europe/Rome;VALUE=DATE-TIME:20230620T143000
DTEND;TZID=Europe/Rome;VALUE=DATE-TIME:20230620T163000
DTSTAMP;VALUE=DATE-TIME:20260420T094002Z
UID:1c49d03307f949738a4a4e304027e54b@127.0.0.1:8095
ATTENDEE;CN="Relatore: Corrado Iacono, UO Governo Clinico, Ricerca, Formaz
 ione e Sist.Qualita' (SC), Segreteria Locale Comitato Etico AVEC AUSLBO-AU
 SLIM.";ROLE=REQ-PARTICIPANT:Relatore: Corrado Iacono, UO Governo Clinico, 
 Ricerca, Formazione e Sist.Qualita' (SC), Segreteria Locale Comitato Etico
  AVEC AUSLBO-AUSLIM.
ATTENDEE;CN=;ROLE=REQ-PARTICIPANT:
ATTENDEE;CN=;ROLE=REQ-PARTICIPANT:
CATEGORIES:Istituto Scienze Neurologiche
CREATED;VALUE=DATE-TIME:20230524T131910Z
DESCRIPTION:Seminario misto: in presenza e online
LAST-MODIFIED;VALUE=DATE-TIME:20230825T062629Z
LOCATION:in presenza e online
URL:https://www.ausl.bologna.it/eventi/archivio/il-percorso-di-valutazione
 -degli-studi-clinici-alla-luce-dell2019entrata-in-vigore-del-decreto-di-ri
 ordino-dei-comitati-etici-e-della-ricerca-clinica
END:VEVENT
BEGIN:VTIMEZONE
TZID:Europe/Rome
X-LIC-LOCATION:Europe/Rome
BEGIN:DAYLIGHT
DTSTART;VALUE=DATE-TIME:20230326T030000
TZNAME:CEST
TZOFFSETFROM:+0100
TZOFFSETTO:+0200
END:DAYLIGHT
END:VTIMEZONE
END:VCALENDAR
