BEGIN:VCALENDAR
VERSION:2.0
PRODID:-//Plone.org//NONSGML plone.app.event//EN
X-WR-TIMEZONE:Europe/Rome
BEGIN:VEVENT
SUMMARY:Il percorso del paziente con malattie croniche: dall'ospedale al t
 erritorio\, dai PDTA al mondo reale
DTSTART;TZID=Europe/Rome;VALUE=DATE-TIME:20221210T081500
DTEND;TZID=Europe/Rome;VALUE=DATE-TIME:20221210T140000
DTSTAMP;VALUE=DATE-TIME:20260420T093955Z
UID:2ea018a52db941ff87ee9bec0a8e5114@127.0.0.1:8095
CREATED;VALUE=DATE-TIME:20221123T071135Z
DESCRIPTION:BPCO e Scompenso Cardiaco come esempi di integrazione
LAST-MODIFIED;VALUE=DATE-TIME:20230825T062427Z
URL:https://www.ausl.bologna.it/eventi/archivio/il-percorso-del-paziente-c
 on-malattie-croniche-dallospedale-al-territorio-dai-pdta-al-mondo-reale
END:VEVENT
BEGIN:VTIMEZONE
TZID:Europe/Rome
X-LIC-LOCATION:Europe/Rome
BEGIN:STANDARD
DTSTART;VALUE=DATE-TIME:20221030T020000
TZNAME:CET
TZOFFSETFROM:+0200
TZOFFSETTO:+0100
END:STANDARD
END:VTIMEZONE
END:VCALENDAR
