BEGIN:VCALENDAR
VERSION:2.0
PRODID:-//Plone.org//NONSGML plone.app.event//EN
X-WR-TIMEZONE:Europe/Rome
BEGIN:VEVENT
SUMMARY:Diventare genitori - Il massaggio neonatale\, vaccinazioni e sicur
 ezza in ambito domestico
DTSTART;TZID=Europe/Rome;VALUE=DATE-TIME:20240410T170000
DTEND;TZID=Europe/Rome;VALUE=DATE-TIME:20240410T190000
DTSTAMP;VALUE=DATE-TIME:20260420T063430Z
UID:0023eb0d13394d88afcee815e50d3e39@127.0.0.1:8095
CONTACT:Salaborsa\, 051 2194460
CREATED;VALUE=DATE-TIME:20240319T101057Z
DESCRIPTION:Alla Salaborsa di Bologna tornano gli incontri per prepararsi 
 all’arrivo di un figlio
LAST-MODIFIED;VALUE=DATE-TIME:20240912T094250Z
LOCATION:Salaborsa (Sala conferenze)\, Piazza Nettuno 3\, Bologna
URL:https://www.ausl.bologna.it/eventi/archivio/il-massaggio-neonatale-vac
 cinazioni-e-sicurezza-in-ambito-domestico
END:VEVENT
BEGIN:VTIMEZONE
TZID:Europe/Rome
X-LIC-LOCATION:Europe/Rome
BEGIN:DAYLIGHT
DTSTART;VALUE=DATE-TIME:20240331T030000
TZNAME:CEST
TZOFFSETFROM:+0100
TZOFFSETTO:+0200
END:DAYLIGHT
END:VTIMEZONE
END:VCALENDAR
