BEGIN:VCALENDAR
VERSION:2.0
PRODID:-//Plone.org//NONSGML plone.app.event//EN
X-WR-TIMEZONE:Europe/Rome
BEGIN:VEVENT
SUMMARY:ERN - Huntington disease: new insights into molecular pathogenesis
  and therapeutic opportunities
DTSTART;TZID=Europe/Rome;VALUE=DATE-TIME:20230627T150000
DTEND;TZID=Europe/Rome;VALUE=DATE-TIME:20230627T160000
DTSTAMP;VALUE=DATE-TIME:20260420T113635Z
UID:919b5f7cb06f4af289664a7f0cc2a237@127.0.0.1:8095
CREATED;VALUE=DATE-TIME:20230216T111033Z
DESCRIPTION:European Reference Network - Rare Neurological diseases (ERN-R
 ND)
LAST-MODIFIED;VALUE=DATE-TIME:20230825T062356Z
LOCATION:online
URL:https://www.ausl.bologna.it/eventi/archivio/huntington-disease-new-ins
 ights-into-molecular-pathogenesis-and-therapeutic-opportunities
END:VEVENT
BEGIN:VTIMEZONE
TZID:Europe/Rome
X-LIC-LOCATION:Europe/Rome
BEGIN:DAYLIGHT
DTSTART;VALUE=DATE-TIME:20230326T030000
TZNAME:CEST
TZOFFSETFROM:+0100
TZOFFSETTO:+0200
END:DAYLIGHT
END:VTIMEZONE
END:VCALENDAR
