BEGIN:VCALENDAR
VERSION:2.0
PRODID:-//Plone.org//NONSGML plone.app.event//EN
X-WR-TIMEZONE:Europe/Rome
BEGIN:VEVENT
SUMMARY:Gli Spazi Giovani Adulti nei Consultori Familiari
DTSTART;TZID=Europe/Rome;VALUE=DATE-TIME:20240523T170000
DTEND;TZID=Europe/Rome;VALUE=DATE-TIME:20240523T190000
DTSTAMP;VALUE=DATE-TIME:20260420T063510Z
UID:7d15539f03b94213a92b7dbf25d6d1b3@127.0.0.1:8095
CREATED;VALUE=DATE-TIME:20240516T130434Z
DESCRIPTION:Sedi\, modalità di accesso e ambiti di intervento degli Spazi
  Giovani Adulti dell'Azienda USL di Bologna
LAST-MODIFIED;VALUE=DATE-TIME:20240912T094248Z
LOCATION:Bologna\, Salaborsa - Sala Conferenze\, Piazza del Nettuno 3
URL:https://www.ausl.bologna.it/eventi/archivio/gli-spazi-giovani-adulti-n
 ei-consultori-familiari
END:VEVENT
BEGIN:VTIMEZONE
TZID:Europe/Rome
X-LIC-LOCATION:Europe/Rome
BEGIN:DAYLIGHT
DTSTART;VALUE=DATE-TIME:20240331T030000
TZNAME:CEST
TZOFFSETFROM:+0100
TZOFFSETTO:+0200
END:DAYLIGHT
END:VTIMEZONE
END:VCALENDAR
