BEGIN:VCALENDAR
VERSION:2.0
PRODID:-//Plone.org//NONSGML plone.app.event//EN
X-WR-TIMEZONE:Europe/Rome
BEGIN:VEVENT
SUMMARY:Giornata Mondiale senza Tabacco
DTSTART;TZID=Europe/Rome;VALUE=DATE-TIME:20230531T093000
DTSTAMP;VALUE=DATE-TIME:20260420T093615Z
UID:be3b5539bc254479b9c8f2711f576e39@127.0.0.1:8095
CREATED;VALUE=DATE-TIME:20230523T115645Z
DESCRIPTION:Ritrovo alle 9:30 alla Farmacia Toschi in Via San Felice 89
LAST-MODIFIED;VALUE=DATE-TIME:20230825T062629Z
LOCATION:Farmacia Toschi - Via San Felice 89
URL:https://www.ausl.bologna.it/eventi/archivio/giornata-mondiale-senza-ta
 bacco
END:VEVENT
BEGIN:VTIMEZONE
TZID:Europe/Rome
X-LIC-LOCATION:Europe/Rome
BEGIN:DAYLIGHT
DTSTART;VALUE=DATE-TIME:20230326T030000
TZNAME:CEST
TZOFFSETFROM:+0100
TZOFFSETTO:+0200
END:DAYLIGHT
END:VTIMEZONE
END:VCALENDAR
