BEGIN:VCALENDAR
VERSION:2.0
PRODID:-//Plone.org//NONSGML plone.app.event//EN
X-WR-TIMEZONE:Europe/Rome
BEGIN:VEVENT
SUMMARY:EUROMIT 2023
DTSTART;TZID=Europe/Rome;VALUE=DATE-TIME:20230611T100000
DTEND;TZID=Europe/Rome;VALUE=DATE-TIME:20230615T180000
DTSTAMP;VALUE=DATE-TIME:20260420T091428Z
UID:a0d5b73ec33d4662910927cb1b2da4ba@127.0.0.1:8095
CATEGORIES:Istituto Scienze Neurologiche
CONTACT:06-39.72.55.40\, info@euromit2023.eu\, https://euromit2023.eu/
CREATED;VALUE=DATE-TIME:20230417T111128Z
DESCRIPTION:International meeting of mitochondrial pathology
LAST-MODIFIED;VALUE=DATE-TIME:20230825T062649Z
LOCATION:Bologna
URL:https://www.ausl.bologna.it/eventi/archivio/euromit-2023
END:VEVENT
BEGIN:VTIMEZONE
TZID:Europe/Rome
X-LIC-LOCATION:Europe/Rome
BEGIN:DAYLIGHT
DTSTART;VALUE=DATE-TIME:20230326T030000
TZNAME:CEST
TZOFFSETFROM:+0100
TZOFFSETTO:+0200
END:DAYLIGHT
END:VTIMEZONE
END:VCALENDAR
