BEGIN:VCALENDAR
VERSION:2.0
PRODID:-//Plone.org//NONSGML plone.app.event//EN
X-WR-TIMEZONE:Europe/Rome
BEGIN:VEVENT
SUMMARY:ERN - Non-pharmacological approaches to treatment in svPPA
DTSTART;TZID=Europe/Rome;VALUE=DATE-TIME:20230509T150000
DTEND;TZID=Europe/Rome;VALUE=DATE-TIME:20230509T160000
DTSTAMP;VALUE=DATE-TIME:20260420T113624Z
UID:b4a0f2a6b78b46afac75dbad76d1ed6b@127.0.0.1:8095
CATEGORIES:Istituto Scienze Neurologiche
CREATED;VALUE=DATE-TIME:20230216T110228Z
DESCRIPTION:European Reference Network - Rare Neurological diseases (ERN-R
 ND)
LAST-MODIFIED;VALUE=DATE-TIME:20230825T062355Z
LOCATION:online
URL:https://www.ausl.bologna.it/eventi/archivio/ern-non-pharmacological-ap
 proaches-to-treatment-in-svppa
END:VEVENT
BEGIN:VTIMEZONE
TZID:Europe/Rome
X-LIC-LOCATION:Europe/Rome
BEGIN:DAYLIGHT
DTSTART;VALUE=DATE-TIME:20230326T030000
TZNAME:CEST
TZOFFSETFROM:+0100
TZOFFSETTO:+0200
END:DAYLIGHT
END:VTIMEZONE
END:VCALENDAR
