BEGIN:VCALENDAR
VERSION:2.0
PRODID:-//Plone.org//NONSGML plone.app.event//EN
X-WR-TIMEZONE:Europe/Rome
BEGIN:VEVENT
SUMMARY:ERN - Neuropsychological assessment in primary progressive aphasia
  – recommendations and pitfalls in clinical practice
DTSTART;TZID=Europe/Rome;VALUE=DATE-TIME:20230926T150000
DTEND;TZID=Europe/Rome;VALUE=DATE-TIME:20230926T160000
DTSTAMP;VALUE=DATE-TIME:20260420T113814Z
UID:e33a4f150f3f4f779a9538cb01e31726@127.0.0.1:8095
CATEGORIES:Istituto Scienze Neurologiche
CREATED;VALUE=DATE-TIME:20230216T111556Z
DESCRIPTION:European Reference Network - Rare Neurological diseases (ERN-R
 ND)
LAST-MODIFIED;VALUE=DATE-TIME:20230825T062357Z
LOCATION:online
URL:https://www.ausl.bologna.it/eventi/archivio/ern-neuropsychological-ass
 essment-in-primary-progressive-aphasia-2013-recommendations-and-pitfalls-i
 n-clinical-practice
END:VEVENT
BEGIN:VTIMEZONE
TZID:Europe/Rome
X-LIC-LOCATION:Europe/Rome
BEGIN:DAYLIGHT
DTSTART;VALUE=DATE-TIME:20230326T030000
TZNAME:CEST
TZOFFSETFROM:+0100
TZOFFSETTO:+0200
END:DAYLIGHT
END:VTIMEZONE
END:VCALENDAR
