BEGIN:VCALENDAR
VERSION:2.0
PRODID:-//Plone.org//NONSGML plone.app.event//EN
X-WR-TIMEZONE:Europe/Rome
BEGIN:VEVENT
SUMMARY:ERN - Haematopoietic Stem Cell Transplantion in Leukodystrophies
DTSTART;TZID=Europe/Rome;VALUE=DATE-TIME:20230620T150000
DTEND;TZID=Europe/Rome;VALUE=DATE-TIME:20230620T160000
DTSTAMP;VALUE=DATE-TIME:20260420T113749Z
UID:f0f03bdda7c64ed4a1246367ded997c1@127.0.0.1:8095
CATEGORIES:Istituto Scienze Neurologiche
CREATED;VALUE=DATE-TIME:20230216T110715Z
DESCRIPTION:European Reference Network - Rare Neurological diseases (ERN-R
 ND)
LAST-MODIFIED;VALUE=DATE-TIME:20230825T062356Z
LOCATION:online
URL:https://www.ausl.bologna.it/eventi/archivio/ern-haematopoietic-stem-ce
 ll-transplantion-in-leukodystrophies
END:VEVENT
BEGIN:VTIMEZONE
TZID:Europe/Rome
X-LIC-LOCATION:Europe/Rome
BEGIN:DAYLIGHT
DTSTART;VALUE=DATE-TIME:20230326T030000
TZNAME:CEST
TZOFFSETFROM:+0100
TZOFFSETTO:+0200
END:DAYLIGHT
END:VTIMEZONE
END:VCALENDAR
