BEGIN:VCALENDAR
VERSION:2.0
PRODID:-//Plone.org//NONSGML plone.app.event//EN
X-WR-TIMEZONE:Europe/Rome
BEGIN:VEVENT
SUMMARY:ERN - FTD- in whom\, when and how genetic testing should be applie
 d
DTSTART;TZID=Europe/Rome;VALUE=DATE-TIME:20230314T150000
DTEND;TZID=Europe/Rome;VALUE=DATE-TIME:20230314T160000
DTSTAMP;VALUE=DATE-TIME:20260420T111955Z
UID:84cbce6d052d47c884e798ca4b041f55@127.0.0.1:8095
CATEGORIES:Istituto Scienze Neurologiche
CREATED;VALUE=DATE-TIME:20230216T105053Z
DESCRIPTION:European Reference Network - Rare Neurological diseases (ERN-R
 ND)
LAST-MODIFIED;VALUE=DATE-TIME:20230825T062354Z
LOCATION:online
URL:https://www.ausl.bologna.it/eventi/archivio/ern-ftd-in-whom-when-and-h
 ow-genetic-testing-should-be-applied
END:VEVENT
BEGIN:VTIMEZONE
TZID:Europe/Rome
X-LIC-LOCATION:Europe/Rome
BEGIN:STANDARD
DTSTART;VALUE=DATE-TIME:20221030T020000
TZNAME:CET
TZOFFSETFROM:+0200
TZOFFSETTO:+0100
END:STANDARD
END:VTIMEZONE
END:VCALENDAR
