BEGIN:VCALENDAR
VERSION:2.0
PRODID:-//Plone.org//NONSGML plone.app.event//EN
X-WR-TIMEZONE:Europe/Rome
BEGIN:VEVENT
SUMMARY:ERN - Frontotemporal dementia vs. primary psychiatric disorders
DTSTART;TZID=Europe/Rome;VALUE=DATE-TIME:20230523T150000
DTEND;TZID=Europe/Rome;VALUE=DATE-TIME:20230523T160000
DTSTAMP;VALUE=DATE-TIME:20260420T113501Z
UID:bb4941442c2445d58083dd8ae6f5c4fc@127.0.0.1:8095
CATEGORIES:Istituto Scienze Neurologiche
CREATED;VALUE=DATE-TIME:20230216T110508Z
DESCRIPTION:European Reference Network - Rare Neurological diseases (ERN-R
 ND)
LAST-MODIFIED;VALUE=DATE-TIME:20230825T062356Z
URL:https://www.ausl.bologna.it/eventi/archivio/ern-frontotemporal-dementi
 a-vs-primary-psychiatric-disorders
END:VEVENT
BEGIN:VTIMEZONE
TZID:Europe/Rome
X-LIC-LOCATION:Europe/Rome
BEGIN:DAYLIGHT
DTSTART;VALUE=DATE-TIME:20230326T030000
TZNAME:CEST
TZOFFSETFROM:+0100
TZOFFSETTO:+0200
END:DAYLIGHT
END:VTIMEZONE
END:VCALENDAR
