BEGIN:VCALENDAR
VERSION:2.0
PRODID:-//Plone.org//NONSGML plone.app.event//EN
X-WR-TIMEZONE:Europe/Rome
BEGIN:VEVENT
SUMMARY:ERN - Diagnostic workup for genito-urinary dysfunctions in atypica
 l parkinsonism
DTSTART;TZID=Europe/Rome;VALUE=DATE-TIME:20231215T150000
DTEND;TZID=Europe/Rome;VALUE=DATE-TIME:20231215T160000
DTSTAMP;VALUE=DATE-TIME:20260420T093750Z
UID:6431a1b625714b0e8af587b39ca92067@127.0.0.1:8095
CATEGORIES:Istituto Scienze Neurologiche
CREATED;VALUE=DATE-TIME:20230216T122130Z
DESCRIPTION:European Reference Network - Rare Neurological diseases (ERN-R
 ND)
LAST-MODIFIED;VALUE=DATE-TIME:20230825T062624Z
LOCATION:online
URL:https://www.ausl.bologna.it/eventi/archivio/ern-diagnostic-workup-for-
 genito-urinary-dysfunctions-in-atypical-parkinsonism
END:VEVENT
BEGIN:VTIMEZONE
TZID:Europe/Rome
X-LIC-LOCATION:Europe/Rome
BEGIN:STANDARD
DTSTART;VALUE=DATE-TIME:20231029T020000
TZNAME:CET
TZOFFSETFROM:+0200
TZOFFSETTO:+0100
END:STANDARD
END:VTIMEZONE
END:VCALENDAR
