BEGIN:VCALENDAR
VERSION:2.0
PRODID:-//Plone.org//NONSGML plone.app.event//EN
X-WR-TIMEZONE:Europe/Rome
BEGIN:VEVENT
SUMMARY:ERN - Diagnostic workup and prognostic implication for sleep disor
 ders in atypical parkinsonisms
DTSTART;TZID=Europe/Rome;VALUE=DATE-TIME:20231114T150000
DTEND;TZID=Europe/Rome;VALUE=DATE-TIME:20231114T160000
DTSTAMP;VALUE=DATE-TIME:20260420T093756Z
UID:95db04acd88c4862bfe5414efd5ed27c@127.0.0.1:8095
CATEGORIES:Istituto Scienze Neurologiche
CREATED;VALUE=DATE-TIME:20230216T122037Z
DESCRIPTION:European Reference Network - Rare Neurological diseases (ERN-R
 ND)
LAST-MODIFIED;VALUE=DATE-TIME:20230825T062623Z
LOCATION:online
URL:https://www.ausl.bologna.it/eventi/archivio/ern-diagnostic-workup-and-
 prognostic-implication-for-sleep-disorders-in-atypical-parkinsonisms
END:VEVENT
BEGIN:VTIMEZONE
TZID:Europe/Rome
X-LIC-LOCATION:Europe/Rome
BEGIN:STANDARD
DTSTART;VALUE=DATE-TIME:20231029T020000
TZNAME:CET
TZOFFSETFROM:+0200
TZOFFSETTO:+0100
END:STANDARD
END:VTIMEZONE
END:VCALENDAR
