BEGIN:VCALENDAR
VERSION:2.0
PRODID:-//Plone.org//NONSGML plone.app.event//EN
X-WR-TIMEZONE:Europe/Rome
BEGIN:VEVENT
SUMMARY:ERN - Advanced therapies and clinical trials in leukodystrophies
DTSTART;TZID=Europe/Rome;VALUE=DATE-TIME:20231010T150000
DTEND;TZID=Europe/Rome;VALUE=DATE-TIME:20231010T160000
DTSTAMP;VALUE=DATE-TIME:20260420T113741Z
UID:867efa97c1ab400d893eb0c3ddbee742@127.0.0.1:8095
CATEGORIES:Istituto Scienze Neurologiche
CREATED;VALUE=DATE-TIME:20230216T121435Z
DESCRIPTION:European Reference Network - Rare Neurological diseases (ERN-R
 ND)
LAST-MODIFIED;VALUE=DATE-TIME:20230825T062358Z
LOCATION:online
URL:https://www.ausl.bologna.it/eventi/archivio/ern-advanced-therapies-and
 -clinical-trials-in-leukodystrophies
END:VEVENT
BEGIN:VTIMEZONE
TZID:Europe/Rome
X-LIC-LOCATION:Europe/Rome
BEGIN:DAYLIGHT
DTSTART;VALUE=DATE-TIME:20230326T030000
TZNAME:CEST
TZOFFSETFROM:+0100
TZOFFSETTO:+0200
END:DAYLIGHT
END:VTIMEZONE
END:VCALENDAR
