BEGIN:VCALENDAR
VERSION:2.0
PRODID:-//Plone.org//NONSGML plone.app.event//EN
X-WR-TIMEZONE:Europe/Rome
BEGIN:VEVENT
SUMMARY:Elementi formativi in ambito di neurosonologia
DTSTART;TZID=Europe/Rome;VALUE=DATE-TIME:20230418T143000
DTEND;TZID=Europe/Rome;VALUE=DATE-TIME:20230418T163000
DTSTAMP;VALUE=DATE-TIME:20260420T093436Z
UID:4ea3b2f17be1486381b9ea892155352c@127.0.0.1:8095
ATTENDEE;CN="Medici Medicina D’Urgenza, Medicina Interna, Geriatria, Med
 icina Fisica e Riabilitativa, tecnici di Neurofisiopatologia";ROLE=REQ-PAR
 TICIPANT:Medici Medicina D’Urgenza, Medicina Interna, Geriatria, Medicin
 a Fisica e Riabilitativa, tecnici di Neurofisiopatologia
CONTACT:segru.formazione@ausl.bologna.it
CREATED;VALUE=DATE-TIME:20230322T122515Z
DESCRIPTION:Il corso permetterà ai partecipanti di acquisire competenze d
 i base su esecuzione e interpretazione degli esami neurosonologici e di co
 mprendere l’appropriatezza delle indagini neurosonologiche. Il corso è 
 articolato su tre giornate\, ciascuna di due ore.
LAST-MODIFIED;VALUE=DATE-TIME:20230825T062644Z
LOCATION:Sala Team Medicina Riabilitativa - Ospedale Maggiore\, Bologna
URL:https://www.ausl.bologna.it/eventi/archivio/elementi-formativi-in-ambi
 to-di-neurosonologia
END:VEVENT
BEGIN:VTIMEZONE
TZID:Europe/Rome
X-LIC-LOCATION:Europe/Rome
BEGIN:DAYLIGHT
DTSTART;VALUE=DATE-TIME:20230326T030000
TZNAME:CEST
TZOFFSETFROM:+0100
TZOFFSETTO:+0200
END:DAYLIGHT
END:VTIMEZONE
END:VCALENDAR
