BEGIN:VCALENDAR
VERSION:2.0
PRODID:-//Plone.org//NONSGML plone.app.event//EN
X-WR-TIMEZONE:Europe/Rome
BEGIN:VEVENT
SUMMARY:Educazione alla salute pelvica: consapevolezza e benessere in grav
 idanza e puerperio
DTSTART;TZID=Europe/Rome;VALUE=DATE-TIME:20240214T170000
DTEND;TZID=Europe/Rome;VALUE=DATE-TIME:20240214T190000
DTSTAMP;VALUE=DATE-TIME:20260420T080537Z
UID:59811b0012a14a37ab10e86587f91fb7@127.0.0.1:8095
CREATED;VALUE=DATE-TIME:20240122T084415Z
DESCRIPTION:Alla Salaborsa di Bologna tornano gli incontri per prepararsi 
 all’arrivo di un figlio
LAST-MODIFIED;VALUE=DATE-TIME:20240226T080431Z
LOCATION:Salaborsa (Sala Conferenze)\, Piazza Nettuno 3\, Bologna
URL:https://www.ausl.bologna.it/eventi/archivio/educazione-alla-salute-pel
 vica-consapevolezza-e-benessere-in-gravidanza-e-puerperio
END:VEVENT
BEGIN:VTIMEZONE
TZID:Europe/Rome
X-LIC-LOCATION:Europe/Rome
BEGIN:STANDARD
DTSTART;VALUE=DATE-TIME:20231029T020000
TZNAME:CET
TZOFFSETFROM:+0200
TZOFFSETTO:+0100
END:STANDARD
END:VTIMEZONE
END:VCALENDAR
