BEGIN:VCALENDAR
VERSION:2.0
PRODID:-//Plone.org//NONSGML plone.app.event//EN
X-WR-TIMEZONE:Europe/Rome
BEGIN:VEVENT
SUMMARY:Educazione alimentare per la prevenzione oncologica e delle recidi
 ve. Parliamo di alimentazione e integratori
DTSTART;TZID=Europe/Rome;VALUE=DATE-TIME:20240612T170000
DTEND;TZID=Europe/Rome;VALUE=DATE-TIME:20240612T183000
DTSTAMP;VALUE=DATE-TIME:20260420T063458Z
UID:9800f074995f44e5aff1e13d9586ea60@127.0.0.1:8095
CATEGORIES:DSP
CREATED;VALUE=DATE-TIME:20240321T094327Z
DESCRIPTION:Quarto incontro di un ciclo\, per esplorare il ruolo chiave de
 ll’alimentazione nella prevenzione oncologica
LAST-MODIFIED;VALUE=DATE-TIME:20240912T094249Z
LOCATION:Online in modalità webinar
URL:https://www.ausl.bologna.it/eventi/archivio/educazione-alimentare-per-
 la-prevenzione-oncologica-e-delle-recidive-parliamo-di-alimentazione-e-int
 egratori
END:VEVENT
BEGIN:VTIMEZONE
TZID:Europe/Rome
X-LIC-LOCATION:Europe/Rome
BEGIN:DAYLIGHT
DTSTART;VALUE=DATE-TIME:20240331T030000
TZNAME:CEST
TZOFFSETFROM:+0100
TZOFFSETTO:+0200
END:DAYLIGHT
END:VTIMEZONE
END:VCALENDAR
