BEGIN:VCALENDAR
VERSION:2.0
PRODID:-//Plone.org//NONSGML plone.app.event//EN
X-WR-TIMEZONE:Europe/Rome
BEGIN:VEVENT
SUMMARY:Educazione alimentare per la prevenzione oncologica e delle recidi
 ve. Parliamo di alimentazione e farmaci
DTSTART;TZID=Europe/Rome;VALUE=DATE-TIME:20241016T170000
DTEND;TZID=Europe/Rome;VALUE=DATE-TIME:20241016T183000
DTSTAMP;VALUE=DATE-TIME:20260420T073904Z
UID:428a9ea5878d4188a8edf92a06046174@127.0.0.1:8095
CATEGORIES:DSP
CREATED;VALUE=DATE-TIME:20240715T080725Z
DESCRIPTION:Un ciclo di incontri per esplorare il ruolo chiave dell’alim
 entazione nella prevenzione oncologica
LAST-MODIFIED;VALUE=DATE-TIME:20241128T093551Z
LOCATION:Online in modalità webinar
URL:https://www.ausl.bologna.it/eventi/archivio/educazione-alimentare-per-
 la-prevenzione-oncologica-e-delle-recidive-parliamo-di-alimentazione-e-far
 maci
END:VEVENT
BEGIN:VTIMEZONE
TZID:Europe/Rome
X-LIC-LOCATION:Europe/Rome
BEGIN:DAYLIGHT
DTSTART;VALUE=DATE-TIME:20240331T030000
TZNAME:CEST
TZOFFSETFROM:+0100
TZOFFSETTO:+0200
END:DAYLIGHT
END:VTIMEZONE
END:VCALENDAR
