BEGIN:VCALENDAR
VERSION:2.0
PRODID:-//Plone.org//NONSGML plone.app.event//EN
X-WR-TIMEZONE:Europe/Rome
BEGIN:VEVENT
SUMMARY:Educazione alimentare per la prevenzione oncologica e delle recidi
 ve. Parliamo di alimentazione e dieta mediterranea
DTSTART;TZID=Europe/Rome;VALUE=DATE-TIME:20240911T170000
DTEND;TZID=Europe/Rome;VALUE=DATE-TIME:20240911T183000
DTSTAMP;VALUE=DATE-TIME:20260420T063511Z
UID:f25632285a4a4663a648c961c1313f01@127.0.0.1:8095
CATEGORIES:DSP
CREATED;VALUE=DATE-TIME:20240715T080348Z
DESCRIPTION:Un ciclo di incontri per esplorare il ruolo chiave dell’alim
 entazione nella prevenzione oncologica
LAST-MODIFIED;VALUE=DATE-TIME:20241128T093552Z
LOCATION:Online in modalità webinar
URL:https://www.ausl.bologna.it/eventi/archivio/educazione-alimentare-per-
 la-prevenzione-oncologica-e-delle-recidive-parliamo-di-alimentazione-e-die
 ta-mediterranea
END:VEVENT
BEGIN:VTIMEZONE
TZID:Europe/Rome
X-LIC-LOCATION:Europe/Rome
BEGIN:DAYLIGHT
DTSTART;VALUE=DATE-TIME:20240331T030000
TZNAME:CEST
TZOFFSETFROM:+0100
TZOFFSETTO:+0200
END:DAYLIGHT
END:VTIMEZONE
END:VCALENDAR
