BEGIN:VCALENDAR
VERSION:2.0
PRODID:-//Plone.org//NONSGML plone.app.event//EN
X-WR-TIMEZONE:Europe/Rome
BEGIN:VEVENT
SUMMARY:Donne\, salute e sicurezza
DTSTART;TZID=Europe/Rome;VALUE=DATE-TIME:20230309T140000
DTEND;TZID=Europe/Rome;VALUE=DATE-TIME:20230309T173000
DTSTAMP;VALUE=DATE-TIME:20260420T091429Z
UID:ad67f11694964db7aab82fb4d7b21e4b@127.0.0.1:8095
CREATED;VALUE=DATE-TIME:20230228T105234Z
DESCRIPTION:Un seminario per approfondire alcuni dei temi promossi e soste
 nuti dal Comitato Unico di Garanzia
LAST-MODIFIED;VALUE=DATE-TIME:20230825T062625Z
LOCATION:Evento online
URL:https://www.ausl.bologna.it/eventi/archivio/donne-salute-e-sicurezza
END:VEVENT
BEGIN:VTIMEZONE
TZID:Europe/Rome
X-LIC-LOCATION:Europe/Rome
BEGIN:STANDARD
DTSTART;VALUE=DATE-TIME:20221030T020000
TZNAME:CET
TZOFFSETFROM:+0200
TZOFFSETTO:+0100
END:STANDARD
END:VTIMEZONE
END:VCALENDAR
