BEGIN:VCALENDAR
VERSION:2.0
PRODID:-//Plone.org//NONSGML plone.app.event//EN
X-WR-TIMEZONE:Europe/Rome
BEGIN:VEVENT
SUMMARY:Diventare genitori. La gravidanza
DTSTART;TZID=Europe/Rome;VALUE=DATE-TIME:20240110T170000
DTEND;TZID=Europe/Rome;VALUE=DATE-TIME:20240110T190000
DTSTAMP;VALUE=DATE-TIME:20260420T074657Z
UID:8fbfcae34c5e41ec95d24ecb19332b33@127.0.0.1:8095
CREATED;VALUE=DATE-TIME:20240109T122459Z
DESCRIPTION:Alla Salaborsa di Bologna tornano gli incontri per prepararsi 
 all’arrivo di un figlio
LAST-MODIFIED;VALUE=DATE-TIME:20240226T080428Z
LOCATION:Salaborsa (Sala conferenze)\, Piazza Nettuno 3\, Bologna
URL:https://www.ausl.bologna.it/eventi/archivio/diventare-genitori
END:VEVENT
BEGIN:VTIMEZONE
TZID:Europe/Rome
X-LIC-LOCATION:Europe/Rome
BEGIN:STANDARD
DTSTART;VALUE=DATE-TIME:20231029T020000
TZNAME:CET
TZOFFSETFROM:+0200
TZOFFSETTO:+0100
END:STANDARD
END:VTIMEZONE
END:VCALENDAR
