BEGIN:VCALENDAR
VERSION:2.0
PRODID:-//Plone.org//NONSGML plone.app.event//EN
X-WR-TIMEZONE:Europe/Rome
BEGIN:VEVENT
SUMMARY:Diventare genitori. Neonato: i suoi bisogni e come favorire un buo
 n avvio dell'allattamento
DTSTART;TZID=Europe/Rome;VALUE=DATE-TIME:20241106T170000
DTEND;TZID=Europe/Rome;VALUE=DATE-TIME:20241106T190000
DTSTAMP;VALUE=DATE-TIME:20260420T073834Z
UID:3aeff1c7fd074f80be5ec41470dc1648@127.0.0.1:8095
CREATED;VALUE=DATE-TIME:20240906T091118Z
DESCRIPTION:Alla Salaborsa di Bologna tornano gli incontri per prepararsi 
 all’arrivo di un figlio
LAST-MODIFIED;VALUE=DATE-TIME:20241128T093642Z
LOCATION:Salaborsa (Sala Conferenze - 2° piano)\, Piazza Nettuno 3\, Bolo
 gna
URL:https://www.ausl.bologna.it/eventi/archivio/diventare-genitori-neonato
 -i-suoi-bisogni-e-come-favorire-un-buon-avvio-dellallattamento
END:VEVENT
BEGIN:VTIMEZONE
TZID:Europe/Rome
X-LIC-LOCATION:Europe/Rome
BEGIN:STANDARD
DTSTART;VALUE=DATE-TIME:20241027T020000
TZNAME:CET
TZOFFSETFROM:+0200
TZOFFSETTO:+0100
END:STANDARD
END:VTIMEZONE
END:VCALENDAR
