BEGIN:VCALENDAR
VERSION:2.0
PRODID:-//Plone.org//NONSGML plone.app.event//EN
X-WR-TIMEZONE:Europe/Rome
BEGIN:VEVENT
SUMMARY:Diventare genitori. Mai troppo piccoli per la lettura\, nati per l
 eggere e per la musica
DTSTART;TZID=Europe/Rome;VALUE=DATE-TIME:20241218T170000
DTEND;TZID=Europe/Rome;VALUE=DATE-TIME:20241218T190000
DTSTAMP;VALUE=DATE-TIME:20260420T063459Z
UID:1b89bd98ad6e43c3a8a787fb98a526b2@127.0.0.1:8095
CREATED;VALUE=DATE-TIME:20240906T091719Z
DESCRIPTION:Alla Salaborsa di Bologna tornano gli incontri per prepararsi 
 all’arrivo di un figlio
LAST-MODIFIED;VALUE=DATE-TIME:20241128T093645Z
LOCATION:Salaborsa (Sala Conferenze - 2° piano)\, Piazza Nettuno 3\, Bolo
 gna
URL:https://www.ausl.bologna.it/eventi/archivio/diventare-genitori-mai-tro
 ppo-piccoli-per-la-lettura-nati-per-leggere-e-per-la-musica
END:VEVENT
BEGIN:VTIMEZONE
TZID:Europe/Rome
X-LIC-LOCATION:Europe/Rome
BEGIN:STANDARD
DTSTART;VALUE=DATE-TIME:20241027T020000
TZNAME:CET
TZOFFSETFROM:+0200
TZOFFSETTO:+0100
END:STANDARD
END:VTIMEZONE
END:VCALENDAR
