BEGIN:VCALENDAR
VERSION:2.0
PRODID:-//Plone.org//NONSGML plone.app.event//EN
X-WR-TIMEZONE:Europe/Rome
BEGIN:VEVENT
SUMMARY:Diventare genitori. Il massaggio neonatale\, vaccinazioni e sicure
 zza in ambito domestico
DTSTART;TZID=Europe/Rome;VALUE=DATE-TIME:20241204T170000
DTEND;TZID=Europe/Rome;VALUE=DATE-TIME:20241204T190000
DTSTAMP;VALUE=DATE-TIME:20260420T063332Z
UID:9400f876784a4ad9a13f1c78c11771d1@127.0.0.1:8095
CREATED;VALUE=DATE-TIME:20240906T091523Z
DESCRIPTION:Alla Salaborsa di Bologna tornano gli incontri per prepararsi 
 all’arrivo di un figlio
LAST-MODIFIED;VALUE=DATE-TIME:20241128T093643Z
LOCATION:Salaborsa (Sala Conferenze - 2° piano)\, Piazza Nettuno 3\, Bolo
 gna
URL:https://www.ausl.bologna.it/eventi/archivio/diventare-genitori-il-mass
 aggio-neonatale-vaccinazioni-e-sicurezza-in-ambito-domestico-1
END:VEVENT
BEGIN:VTIMEZONE
TZID:Europe/Rome
X-LIC-LOCATION:Europe/Rome
BEGIN:STANDARD
DTSTART;VALUE=DATE-TIME:20241027T020000
TZNAME:CET
TZOFFSETFROM:+0200
TZOFFSETTO:+0100
END:STANDARD
END:VTIMEZONE
END:VCALENDAR
