BEGIN:VCALENDAR
VERSION:2.0
PRODID:-//Plone.org//NONSGML plone.app.event//EN
X-WR-TIMEZONE:Europe/Rome
BEGIN:VEVENT
SUMMARY:Diventare genitori. Alimentazione movimento e stili di vita in gra
 vidanza
DTSTART;TZID=Europe/Rome;VALUE=DATE-TIME:20240925T170000
DTEND;TZID=Europe/Rome;VALUE=DATE-TIME:20240925T190000
DTSTAMP;VALUE=DATE-TIME:20260420T063458Z
UID:25830afdaeb24c2fbff681ffbb512bcc@127.0.0.1:8095
CREATED;VALUE=DATE-TIME:20240906T090428Z
DESCRIPTION:Alla Salaborsa di Bologna tornano gli incontri per prepararsi 
 all’arrivo di un figlio
LAST-MODIFIED;VALUE=DATE-TIME:20241128T093644Z
LOCATION:Salaborsa (Sala Conferenze - 2° piano)\, Piazza Nettuno 3\, Bolo
 gna
URL:https://www.ausl.bologna.it/eventi/archivio/diventare-genitori-aliment
 azione-movimento-e-stili-di-vita-in-gravidanza
END:VEVENT
BEGIN:VTIMEZONE
TZID:Europe/Rome
X-LIC-LOCATION:Europe/Rome
BEGIN:DAYLIGHT
DTSTART;VALUE=DATE-TIME:20240331T030000
TZNAME:CEST
TZOFFSETFROM:+0100
TZOFFSETTO:+0200
END:DAYLIGHT
END:VTIMEZONE
END:VCALENDAR
