BEGIN:VCALENDAR
VERSION:2.0
PRODID:-//Plone.org//NONSGML plone.app.event//EN
X-WR-TIMEZONE:Europe/Rome
BEGIN:VEVENT
SUMMARY:Diventare genitori. Alimentazione\, movimento e stili di vita in g
 ravidanza
DTSTART;TZID=Europe/Rome;VALUE=DATE-TIME:20240124T170000
DTEND;TZID=Europe/Rome;VALUE=DATE-TIME:20240124T190000
DTSTAMP;VALUE=DATE-TIME:20260420T074717Z
UID:6cd0450e3b9c466ea0966735c3dd5f7b@127.0.0.1:8095
CREATED;VALUE=DATE-TIME:20240111T093211Z
DESCRIPTION:Alla Salaborsa di Bologna tornano gli incontri per prepararsi 
 all’arrivo di un figlio
LAST-MODIFIED;VALUE=DATE-TIME:20240226T080429Z
LOCATION:Salaborsa (Sala Tassinari)\, Piazza Nettuno 3\, Bologna
URL:https://www.ausl.bologna.it/eventi/archivio/diventare-genitori-1
END:VEVENT
BEGIN:VTIMEZONE
TZID:Europe/Rome
X-LIC-LOCATION:Europe/Rome
BEGIN:STANDARD
DTSTART;VALUE=DATE-TIME:20231029T020000
TZNAME:CET
TZOFFSETFROM:+0200
TZOFFSETTO:+0100
END:STANDARD
END:VTIMEZONE
END:VCALENDAR
