BEGIN:VCALENDAR
VERSION:2.0
PRODID:-//Plone.org//NONSGML plone.app.event//EN
X-WR-TIMEZONE:Europe/Rome
BEGIN:VEVENT
SUMMARY:Disordini neurologici funzionali: diagnosi e recenti suggestioni p
 atogenetiche
DTSTART;TZID=Europe/Rome;VALUE=DATE-TIME:20230530T150000
DTEND;TZID=Europe/Rome;VALUE=DATE-TIME:20230530T170000
DTSTAMP;VALUE=DATE-TIME:20260420T093904Z
UID:b918f83b619f4d40bfdb929e81ae62f8@127.0.0.1:8095
ATTENDEE;CN="Nardo Nardocci, già Direttore del Dipartimento di Neuroscien
 ze Pediatriche, Fondazione IRCCS Istituto Neurologico 'C Besta' Milano";RO
 LE=REQ-PARTICIPANT:Nardo Nardocci, già Direttore del Dipartimento di Neur
 oscienze Pediatriche, Fondazione IRCCS Istituto Neurologico "C Besta" Mila
 no
CATEGORIES:Istituto Scienze Neurologiche
CREATED;VALUE=DATE-TIME:20230427T142626Z
DESCRIPTION:Seminari IRCCS BLU - Scuola di Specializzazione in Neuropsichi
 atria Infantile
LAST-MODIFIED;VALUE=DATE-TIME:20230825T062635Z
URL:https://www.ausl.bologna.it/eventi/archivio/disordini-neurologici-funz
 ionali-diagnosi-e-recenti-suggestioni-patogenetiche
END:VEVENT
BEGIN:VTIMEZONE
TZID:Europe/Rome
X-LIC-LOCATION:Europe/Rome
BEGIN:DAYLIGHT
DTSTART;VALUE=DATE-TIME:20230326T030000
TZNAME:CEST
TZOFFSETFROM:+0100
TZOFFSETTO:+0200
END:DAYLIGHT
END:VTIMEZONE
END:VCALENDAR
